BEGIN:VCALENDAR
PRODID:-//eluceo/ical//2.0/EN
VERSION:2.0
CALSCALE:GREGORIAN
BEGIN:VEVENT
UID:2da27427b93b77bb54c626691f427bbf
DTSTAMP:20260424T230635Z
SUMMARY:Lunch Zoom Meeting: «Charity in schwierigen Zeiten»
DESCRIPTION:Conférencier(s): Thomas Vogel\, Vizepräsident der Eleonorenst
 iftung \nThomas Staedeli (Charity RC ZH Turicum) 
URL:https://zuerich-turicum.rotary2000.ch/fr/agenda/show/107997
DTSTART;TZID=Europe/Zurich:20200527T120000
DTEND;TZID=Europe/Zurich:20200527T130000
LOCATION:-
CATEGORIES:Rotary
END:VEVENT
BEGIN:VTIMEZONE
TZID:Europe/Zurich
BEGIN:DAYLIGHT
DTSTART:20200527T120000
TZNAME:CEST
TZOFFSETTO:+0200
TZOFFSETFROM:+0200
END:DAYLIGHT
END:VTIMEZONE
END:VCALENDAR
